





BEGIN:VCALENDAR
VERSION:2.0
METHOD:PUBLISH
PRODID:-//Suitbertus Webheld//Vieringen//NL
BEGIN:VEVENT
DTSTART:20260607T110000
DTSTAMP:20260607T110000
DTEND:20260607T120000
SUMMARY:WoCo
DESCRIPTION:Type: Woord- en Communieviering\nVoorganger: Diaken V. van der Helm\nLocatie: H. Barbarakerk in Culemborg\nextra informatie: KWD\n 
UID:viering2887@Suitbertus
LOCATION:H. Barbarakerk in Culemborg
END:VEVENT
END:VCALENDAR