





BEGIN:VCALENDAR
VERSION:2.0
METHOD:PUBLISH
PRODID:-//Suitbertus Webheld//Vieringen//NL
BEGIN:VEVENT
DTSTART:20260510T090000
DTSTAMP:20260510T090000
DTEND:20260510T100000
SUMMARY:Eucharistieviering
DESCRIPTION:Type: Eucharistieviering\nVoorganger: Pastoor F. Hogenelst\nLocatie: O.L.V. Tenhemelopneming in Maurik\n 
UID:viering2861@Suitbertus
LOCATION:O.L.V. Tenhemelopneming in Maurik
END:VEVENT
END:VCALENDAR