





BEGIN:VCALENDAR
VERSION:2.0
METHOD:PUBLISH
PRODID:-//Suitbertus Webheld//Vieringen//NL
BEGIN:VEVENT
DTSTART:20260503T090000
DTSTAMP:20260503T090000
DTEND:20260503T100000
SUMMARY:WoCo
DESCRIPTION:Type: Woord- en Communieviering\nVoorganger: pw. W. Sarot\nLocatie: O.L.V. Maria Geboorte in Gellicum\n 
UID:viering2851@Suitbertus
LOCATION:O.L.V. Maria Geboorte in Gellicum
END:VEVENT
END:VCALENDAR