





BEGIN:VCALENDAR
VERSION:2.0
METHOD:PUBLISH
PRODID:-//Suitbertus Webheld//Vieringen//NL
BEGIN:VEVENT
DTSTART:20260426T100000
DTSTAMP:20260426T100000
DTEND:20260426T110000
SUMMARY:Oecumenische Dorpsviering tent-gebedsviering
DESCRIPTION:Type: Oecumenische gebedsviering\nVoorganger: werkgroep\nLocatie: H. Kruisverheffing in Beesd\nextra informatie: Dorpsviering, tentviering\n 
UID:viering2845@Suitbertus
LOCATION:H. Kruisverheffing in Beesd
END:VEVENT
END:VCALENDAR