





BEGIN:VCALENDAR
VERSION:2.0
METHOD:PUBLISH
PRODID:-//Suitbertus Webheld//Vieringen//NL
BEGIN:VEVENT
DTSTART:20260308T110000
DTSTAMP:20260308T110000
DTEND:20260308T120000
SUMMARY:Eucharistieviering
DESCRIPTION:Type: Eucharistieviering\nVoorganger: Pastoor F. Hogenelst\nLocatie: H. Barbarakerk in Culemborg\nextra informatie: KWD\n 
UID:viering2791@Suitbertus
LOCATION:H. Barbarakerk in Culemborg
END:VEVENT
END:VCALENDAR